{
 "currentVersion": 11.4,
 "serviceDescription": "2ft Contours of Utah County captured in 2013 in the valley and 2019 in the mountains",
 "name": "Imagery/Elevation_2ft_StatePlane",
 "description": "2ft Contours of Utah County captured in 2013 in the valley and 2019 in the mountains",
 "extent": {
  "xmin": 1445380.9906748086,
  "ymin": 7086145.100103053,
  "xmax": 1666021.9535914753,
  "ymax": 7385627.768853053,
  "spatialReference": {
   "wkid": 102743,
   "latestWkid": 3566
  }
 },
 "initialExtent": {
  "xmin": 1445380.9906748086,
  "ymin": 7086145.100103053,
  "xmax": 1666021.9535914753,
  "ymax": 7385627.768853053,
  "spatialReference": {
   "wkid": 102743,
   "latestWkid": 3566
  }
 },
 "fullExtent": {
  "xmin": 1445380.9906748086,
  "ymin": 7086145.100103053,
  "xmax": 1666021.9535914753,
  "ymax": 7385627.768853053,
  "spatialReference": {
   "wkid": 102743,
   "latestWkid": 3566
  }
 },
 "sortableFields": "",
 "bandCount": 1,
 "pixelType": "F32",
 "minValues": [
  0
 ],
 "maxValues": [
  11935.5078125
 ],
 "meanValues": [
  5943.754515484534
 ],
 "stdvValues": [
  1461.692646094894
 ],
 "hasMultidimensions": false,
 "pixelSizeX": 1.6404166666666664,
 "pixelSizeY": 1.6404166666666677,
 "meanPixelSize": 0.5000000000000002,
 "datasetFormat": "FGDBR",
 "uncompressedSize": 98222160780,
 "blockWidth": 128,
 "blockHeight": 128,
 "compressionType": "LZ77",
 "bandNames": [
  "Band_1"
 ],
 "allowCopy": true,
 "allowAnalysis": true,
 "itemAccess": false,
 "inspectionCapabilities": "",
 "minPixelSize": 0,
 "maxPixelSize": 0,
 "copyrightText": "Utah County GIS",
 "serviceDataType": "esriImageServiceDataTypeGeneric",
 "serviceSourceType": "esriImageServiceSourceTypeDataset",
 "objectIdField": "",
 "fields": [],
 "capabilities": "Image,Metadata,Catalog",
 "defaultMosaicMethod": "Northwest",
 "allowedMosaicMethods": "NorthWest,Center,LockRaster,ByAttribute,Nadir,Viewpoint,Seamline,None",
 "sortField": "",
 "sortValue": null,
 "sortAscending": true,
 "mosaicOperator": "First",
 "maxDownloadSizeLimit": 2048,
 "defaultCompressionQuality": 75,
 "defaultResamplingMethod": "Bilinear",
 "maxImageHeight": 4100,
 "maxImageWidth": 15000,
 "maxRecordCount": 1000,
 "maxDownloadImageCount": 20,
 "maxMosaicImageCount": 20,
 "allowRasterFunction": true,
 "rasterFunctionInfos": [
  {
   "name": "None",
   "description": "",
   "help": ""
  }
 ],
 "rasterTypeInfos": [
  {
   "name": "Raster Dataset",
   "description": "Supports all ArcGIS Raster Datasets",
   "help": ""
  }
 ],
 "mensurationCapabilities": "",
 "hasHistograms": true,
 "hasColormap": false,
 "hasRasterAttributeTable": false,
 "minScale": 0,
 "maxScale": 0,
 "exportTilesAllowed": false,
 "supportsStatistics": false,
 "supportsAdvancedQueries": false,
 "editFieldsInfo": null,
 "ownershipBasedAccessControlForRasters": null,
 "allowComputeTiePoints": false,
 "useStandardizedQueries": true,
 "advancedQueryCapabilities": {
  "useStandardizedQueries": true,
  "supportsStatistics": false,
  "supportsOrderBy": false,
  "supportsDistinct": false,
  "supportsPagination": false
 },
 "spatialReference": {
  "wkid": 102743,
  "latestWkid": 3566
 }
}
