{
 "currentVersion": 11.4,
 "serviceDescription": "Imagery_NAD83_StatePlane/2009_NAIP_RGB_StatePlane_MrSID",
 "name": "Imagery_NAD83_StatePlane/2009_NAIP_RGB_StatePlane_MrSID",
 "description": "",
 "extent": {
  "xmin": 1429312.5036742531,
  "ymin": 7075123.338428845,
  "xmax": 1834654.319259954,
  "ymax": 7398821.1676475955,
  "spatialReference": {
   "wkid": 102743,
   "latestWkid": 3566
  }
 },
 "initialExtent": {
  "xmin": 1429312.5036742531,
  "ymin": 7075123.338428845,
  "xmax": 1834654.319259954,
  "ymax": 7398821.1676475955,
  "spatialReference": {
   "wkid": 102743,
   "latestWkid": 3566
  }
 },
 "fullExtent": {
  "xmin": 1429312.5036742531,
  "ymin": 7075123.338428845,
  "xmax": 1834654.319259954,
  "ymax": 7398821.1676475955,
  "spatialReference": {
   "wkid": 102743,
   "latestWkid": 3566
  }
 },
 "sortableFields": "",
 "bandCount": 3,
 "pixelType": "U8",
 "minValues": [
  0,
  0,
  0
 ],
 "maxValues": [
  204,
  193,
  184
 ],
 "meanValues": [
  67.070257611241,
  72.621278019404,
  70.547674807628
 ],
 "stdvValues": [
  59.790286020468,
  62.055596455339,
  59.728006380446
 ],
 "hasMultidimensions": false,
 "pixelSizeX": 3.2817745143078123,
 "pixelSizeY": 3.2817745143078096,
 "meanPixelSize": 1.000286872534766,
 "datasetFormat": "MrSID",
 "uncompressedSize": 36547818360,
 "blockWidth": 1024,
 "blockHeight": 128,
 "compressionType": "Wavelet (MG3)",
 "bandNames": [
  "Band_1",
  "Band_2",
  "Band_3"
 ],
 "allowCopy": true,
 "allowAnalysis": true,
 "itemAccess": false,
 "inspectionCapabilities": "",
 "minPixelSize": 0,
 "maxPixelSize": 0,
 "copyrightText": "",
 "serviceDataType": "esriImageServiceDataTypeRGB",
 "serviceSourceType": "esriImageServiceSourceTypeDataset",
 "objectIdField": "",
 "fields": [],
 "capabilities": "Image,Metadata,Mensuration",
 "defaultMosaicMethod": "Center",
 "allowedMosaicMethods": "",
 "sortField": "",
 "sortValue": null,
 "sortAscending": true,
 "mosaicOperator": "First",
 "defaultCompressionQuality": 75,
 "defaultResamplingMethod": "Bilinear",
 "maxImageHeight": 4100,
 "maxImageWidth": 15000,
 "allowRasterFunction": true,
 "rasterFunctionInfos": [
  {
   "name": "None",
   "description": "",
   "help": ""
  }
 ],
 "rasterTypeInfos": [
  {
   "name": "Raster Dataset",
   "description": "Supports all ArcGIS Raster Datasets",
   "help": ""
  }
 ],
 "mensurationCapabilities": "Basic",
 "hasHistograms": true,
 "hasColormap": false,
 "hasRasterAttributeTable": false,
 "minScale": 0,
 "maxScale": 0,
 "exportTilesAllowed": false,
 "supportsStatistics": false,
 "supportsAdvancedQueries": false,
 "editFieldsInfo": null,
 "ownershipBasedAccessControlForRasters": null,
 "allowComputeTiePoints": false,
 "useStandardizedQueries": true,
 "advancedQueryCapabilities": {
  "useStandardizedQueries": true,
  "supportsStatistics": false,
  "supportsOrderBy": false,
  "supportsDistinct": false,
  "supportsPagination": false
 },
 "spatialReference": {
  "wkid": 102743,
  "latestWkid": 3566
 }
}
