View In:
  ArcGIS JavaScript
  ArcGIS Online Map Viewer
  ArcGIS Earth
Service Description:  National Agriculture Imagery Program (NAIP) images of Utah County captured in 2016 using WGS84 UTM Zone 12 then reprojected to NAD 1983 State Plane, Utah Central Zone.
 Imagery_NAD83_StatePlane/2016_NAIP_RGB_StatePlane
Description:  National Agriculture Imagery Program (NAIP) images of Utah County captured in 2016 using WGS84 UTM Zone 12 then reprojected to NAD 1983 State Plane, Utah Central Zone.
 false
Extent: 
XMin: 1429149.611064136
YMin: 7076521.323746978
XMax: 1834742.6318974693
YMax: 7397626.324580312
Spatial Reference: 102743
 (3566)
 LatestVCSWkid(0)
Initial Extent:
XMin: 1429149.611064136
YMin: 7076521.323746978
XMax: 1834742.6318974693
YMax: 7397626.324580312
Spatial Reference: 102743
 (3566)
 LatestVCSWkid(0)
Full Extent:
XMin: 1429149.611064136
YMin: 7076521.323746978
XMax: 1834742.6318974693
YMax: 7397626.324580312
Spatial Reference: 102743
 (3566)
 LatestVCSWkid(0)
Pixel Size X: 3.280833333333333
Pixel Size Y:  3.2808333333333346
Band Count: 3
Pixel Type: U8
RasterFunction Infos:  {"rasterFunctionInfos": [{
 "name": "None",
 "description": "",
 "help": ""
}]}
Mensuration Capabilities: Basic
Inspection Capabilities: 
Has Histograms:  false
Has Colormap:  false
Has Multi Dimensions :  false
Rendering Rule: 
Min Scale:  0
Max Scale:  0
Copyright Text:  Utah County 2016 NAIP Imagery
Service Data Type:  esriImageServiceDataTypeRGB
Min Values:  N/A
Max Values:  N/A
Mean Values:  N/A
Standard Deviation Values:  N/A
Object ID Field:  OBJECTID
Fields: 
- 
OBJECTID
(
type: esriFieldTypeOID, alias: OBJECTID
)
- 
Shape
(
type: esriFieldTypeGeometry, alias: Shape
)
- 
Name
(
type: esriFieldTypeString, alias: Name, length: 200
)
- 
MinPS
(
type: esriFieldTypeDouble, alias: MinPS
)
- 
MaxPS
(
type: esriFieldTypeDouble, alias: MaxPS
)
- 
LowPS
(
type: esriFieldTypeDouble, alias: LowPS
)
- 
HighPS
(
type: esriFieldTypeDouble, alias: HighPS
)
- 
Category
(
type: esriFieldTypeInteger, alias: Category
, Coded Values: 
[0: Unknown]
, [1: Primary]
, [2: Overview]
, ...6 more...
)
- 
Tag
(
type: esriFieldTypeString, alias: Tag, length: 100
)
- 
GroupName
(
type: esriFieldTypeString, alias: GroupName, length: 100
)
- 
ProductName
(
type: esriFieldTypeString, alias: ProductName, length: 100
)
- 
CenterX
(
type: esriFieldTypeDouble, alias: CenterX
)
- 
CenterY
(
type: esriFieldTypeDouble, alias: CenterY
)
- 
ZOrder
(
type: esriFieldTypeInteger, alias: ZOrder
)
- 
Shape_Length
(
type: esriFieldTypeDouble, alias: Shape_Length
)
- 
Shape_Area
(
type: esriFieldTypeDouble, alias: Shape_Area
)
Default Mosaic Method: Northwest
Allowed Mosaic Methods:  NorthWest,Center,LockRaster,ByAttribute,Nadir,Viewpoint,Seamline,None
SortField:  
SortValue:  null
Mosaic Operator:  First
Default Compression Quality:  75
Default Resampling Method:  Bilinear
Max Record Count:  1000
Max Image Height:  4100
Max Image Width:  15000
Max Download Image Count:  20
Max Mosaic Image Count:  20
Allow Raster Function:  true
Allow Copy:  true
Allow Analysis:  true
Allow Compute TiePoints:  false
Supports Statistics:  true
Supports Advanced Queries:  true
Use StandardizedQueries:  true
Raster Type Infos: 
Name: Raster Dataset
Description: Supports all ArcGIS Raster Datasets
Help: 
Has Raster Attribute Table: false
Edit Fields Info:  null
Ownership Based AccessControl For Rasters:  null
Child Resources:
  
Info
  Statistics
  Key Properties
  Legend
  Raster Function Infos
Supported Operations:
  
Export Image
  Query
  Identify
  Measure
  Compute Histograms
  Compute Statistics Histograms
  Get Samples
  Compute Class Statistics
  Query GPS Info
  Find Images
  Image to Map
  Map to Image
  Measure from Image
  Image to Map Multiray
  Query Boundary
  Compute Pixel Location
  Compute Angles
  Validate
  Project