View In:
ArcGIS JavaScript
ArcGIS Online Map Viewer
ArcGIS Earth
Service Description: 2ft Contours of Utah County captured in 2013 in the valley and 2019 in the mountains
Name: Imagery/Elevation_2ft_StatePlane
Description: 2ft Contours of Utah County captured in 2013 in the valley and 2019 in the mountains
Single Fused Map Cache: false
Extent:
XMin: 1445380.9906748086
YMin: 7086145.100103053
XMax: 1666021.9535914753
YMax: 7385627.768853053
Spatial Reference: 102743
(3566)
LatestVCSWkid(0)
Initial Extent:
XMin: 1445380.9906748086
YMin: 7086145.100103053
XMax: 1666021.9535914753
YMax: 7385627.768853053
Spatial Reference: 102743
(3566)
LatestVCSWkid(0)
Full Extent:
XMin: 1445380.9906748086
YMin: 7086145.100103053
XMax: 1666021.9535914753
YMax: 7385627.768853053
Spatial Reference: 102743
(3566)
LatestVCSWkid(0)
Pixel Size X: 1.6404166666666664
Pixel Size Y: 1.6404166666666677
Band Count: 1
Pixel Type: F32
RasterFunction Infos: {"rasterFunctionInfos": [{
"name": "None",
"description": "",
"help": ""
}]}
Mensuration Capabilities:
Inspection Capabilities:
Has Histograms: true
Has Colormap: false
Has Multi Dimensions : false
Rendering Rule:
Min Scale: 0
Max Scale: 0
Copyright Text: Utah County GIS
Service Data Type: esriImageServiceDataTypeGeneric
Min Values: 0
Max Values: 11935.5078125
Mean Values: 5943.754515484534
Standard Deviation Values: 1461.692646094894
Object ID Field:
Fields:
None
Default Mosaic Method: Northwest
Allowed Mosaic Methods: NorthWest,Center,LockRaster,ByAttribute,Nadir,Viewpoint,Seamline,None
SortField:
SortValue: null
Mosaic Operator: First
Default Compression Quality: 75
Default Resampling Method: Bilinear
Max Record Count: 1000
Max Image Height: 4100
Max Image Width: 15000
Max Download Image Count: 20
Max Mosaic Image Count: 20
Allow Raster Function: true
Allow Copy: true
Allow Analysis: true
Allow Compute TiePoints: false
Supports Statistics: false
Supports Advanced Queries: false
Use StandardizedQueries: true
Raster Type Infos:
Name: Raster Dataset
Description: Supports all ArcGIS Raster Datasets
Help:
Has Raster Attribute Table: false
Edit Fields Info: null
Ownership Based AccessControl For Rasters: null
Child Resources:
Info
Histograms
Statistics
Key Properties
Legend
Raster Function Infos
Supported Operations:
Export Image
Query
Identify
Compute Histograms
Compute Statistics Histograms
Get Samples
Compute Class Statistics
Query GPS Info
Find Images
Image to Map
Map to Image
Measure from Image
Image to Map Multiray
Query Boundary
Compute Pixel Location
Compute Angles
Validate
Project