View In:
ArcGIS JavaScript
ArcGIS Online Map Viewer
ArcGIS Earth
Service Description: Imagery_NAD83_StatePlane/2009_NAIP_RGB_StatePlane_MrSID
Name: Imagery_NAD83_StatePlane/2009_NAIP_RGB_StatePlane_MrSID
Description:
Single Fused Map Cache: false
Extent:
XMin: 1429312.5036742531
YMin: 7075123.338428845
XMax: 1834654.319259954
YMax: 7398821.1676475955
Spatial Reference: 102743
(3566)
LatestVCSWkid(0)
Initial Extent:
XMin: 1429312.5036742531
YMin: 7075123.338428845
XMax: 1834654.319259954
YMax: 7398821.1676475955
Spatial Reference: 102743
(3566)
LatestVCSWkid(0)
Full Extent:
XMin: 1429312.5036742531
YMin: 7075123.338428845
XMax: 1834654.319259954
YMax: 7398821.1676475955
Spatial Reference: 102743
(3566)
LatestVCSWkid(0)
Pixel Size X: 3.2817745143078123
Pixel Size Y: 3.2817745143078096
Band Count: 3
Pixel Type: U8
RasterFunction Infos: {"rasterFunctionInfos": [{
"name": "None",
"description": "",
"help": ""
}]}
Mensuration Capabilities: Basic
Inspection Capabilities:
Has Histograms: true
Has Colormap: false
Has Multi Dimensions : false
Rendering Rule:
Min Scale: 0
Max Scale: 0
Copyright Text:
Service Data Type: esriImageServiceDataTypeRGB
Min Values: 0, 0, 0
Max Values: 204, 193, 184
Mean Values: 67.070257611241, 72.621278019404, 70.547674807628
Standard Deviation Values: 59.790286020468, 62.055596455339, 59.728006380446
Object ID Field:
Fields:
None
Default Mosaic Method: Center
Allowed Mosaic Methods:
SortField:
SortValue: null
Mosaic Operator: First
Default Compression Quality: 75
Default Resampling Method: Bilinear
Max Record Count: null
Max Image Height: 4100
Max Image Width: 15000
Max Download Image Count: null
Max Mosaic Image Count: null
Allow Raster Function: true
Allow Copy: true
Allow Analysis: true
Allow Compute TiePoints: false
Supports Statistics: false
Supports Advanced Queries: false
Use StandardizedQueries: true
Raster Type Infos:
Name: Raster Dataset
Description: Supports all ArcGIS Raster Datasets
Help:
Has Raster Attribute Table: false
Edit Fields Info: null
Ownership Based AccessControl For Rasters: null
Child Resources:
Info
Histograms
Statistics
Key Properties
Legend
Raster Function Infos
Supported Operations:
Export Image
Identify
Measure
Compute Histograms
Compute Statistics Histograms
Get Samples
Compute Class Statistics
Query Boundary
Compute Pixel Location
Compute Angles
Validate
Project